BEGIN:VCALENDAR
VERSION:2.0
PRODID:SchoolNow
CALSCALE:GREGORIAN
BEGIN:VEVENT
UID:4eb769a2-4015-11f1-a854-0e932a0c6f13
DTSTAMP:20260424T200503Z
SUMMARY:Medical Assistant Student Success Live
DESCRIPTION:Student Success Live is a group advising and enrollment event f
 or students with on-the-spot course registration to help you get ready for
  Fall 2026. Join us in person at the New Iberia Campus. This event is for
  Medical Assistant students.
LOCATION:908 Ember Dr.\, New Iberia\, LA 70560
URL;VALUE=URI:https://www.solacc.edu/about-us/calendar/9017151/medical-assi
 stant-student-success-live
DTSTART:20260424T193300Z
DTEND:20260424T203300Z
END:VEVENT
END:VCALENDAR
