BEGIN:VCALENDAR
VERSION:2.0
PRODID:SchoolNow
CALSCALE:GREGORIAN
BEGIN:VEVENT
UID:3c93ee72-4014-11f1-9d91-0affedc27465
DTSTAMP:20260424T195206Z
SUMMARY:Opelousas Medical Assistant Student Success Live
DESCRIPTION:Student Success Live is a group advising and enrollment event f
 or Medical Assistant students with on-the-spot course registration to help
  you get ready for Fall 2026. Join us in person at the Opelousas Campus. C
 heck-in will be at the front office of the campus.
LOCATION:332 E South St\, Opelousas\, LA 70570
URL;VALUE=URI:https://www.solacc.edu/about-us/calendar/9017150/opelousas-me
 dical-assistant-student-success-live
DTSTART:20260504T190000Z
DTEND:20260504T203000Z
END:VEVENT
END:VCALENDAR
