BEGIN:VCALENDAR
VERSION:2.0
PRODID:SchoolNow
CALSCALE:GREGORIAN
BEGIN:VEVENT
UID:b72a77ce-4013-11f1-bf24-0e9d689743b1
DTSTAMP:20260424T194905Z
SUMMARY:Opelousas Medical Assistant Student Success Live
DESCRIPTION:Student Success Live is a group advising and enrollment event f
 or Medical Assistant students with on-the-spot course registration to help
  you get ready for Fall 2026. Join us in person at the Opelousas Campus. C
 heck-in will be at the front office of the campus.
LOCATION:332 E South St\, Opelousas\, LA 70570
URL;VALUE=URI:https://www.solacc.edu/about-us/calendar/9017141/opelousas-me
 dical-assistant-student-success-live
DTSTART:20260429T140000Z
DTEND:20260429T153000Z
END:VEVENT
END:VCALENDAR
