BEGIN:VCALENDAR
VERSION:2.0
PRODID:SchoolNow
CALSCALE:GREGORIAN
BEGIN:VEVENT
UID:4fdba8cc-4013-11f1-90e5-0e24d14bd5ad
DTSTAMP:20260424T194819Z
SUMMARY:Opelousas Medical Assistant Student Success Live
DESCRIPTION:Student Success Live is a group advising and enrollment event f
 or Medical Assistant students with on-the-spot course registration to help
  you get ready for Fall 2026. Join us in person at the Opelousas Campus. C
 heck-in will be at the front office of the campus.
LOCATION:332 E South St\, Opelousas\, LA 70570
URL;VALUE=URI:https://www.solacc.edu/about-us/calendar/9017139/opelousas-me
 dical-assistant-student-success-live
DTSTART:20260427T190000Z
DTEND:20260427T203000Z
END:VEVENT
END:VCALENDAR
