BEGIN:VCALENDAR
VERSION:2.0
PRODID:SchoolNow
CALSCALE:GREGORIAN
BEGIN:VEVENT
UID:60abfe3e-4010-11f1-8b1c-0e91c1895723
DTSTAMP:20260424T190543Z
SUMMARY:Medical Assistant SSL - Crowley Campus
DESCRIPTION:Student Success Live is a group advising and enrollment event w
 ith on-the-spot course registration to help you get ready for Fall 2026. J
 oin us in person on the Crowley Campus for those entering the Medical Assi
 stant program.
LOCATION:Register Online to Reserve Your Space
URL;VALUE=URI:https://www.solacc.edu/about-us/calendar/9017134/medical-assi
 stant-ssl-crowley-campus
DTSTART:20260429T183000Z
DTEND:20260429T203000Z
END:VEVENT
END:VCALENDAR
