BEGIN:VCALENDAR
VERSION:2.0
PRODID:SchoolNow
CALSCALE:GREGORIAN
BEGIN:VEVENT
UID:4ac7f956-4010-11f1-adc0-0a58a9feac02
DTSTAMP:20260424T200916Z
SUMMARY:Medical Assistant SSL - Crowley Campus
DESCRIPTION:This event is for students to come in-person to the Crowley Cam
 pus for a group informational session and class registration for the Weldi
 ng program in preparation for the Fall 2026 semester. Students will schedu
 le classes\, have one-on-one advisement and check financial readiness.
LOCATION:Register Online to Reserve Your Space
URL;VALUE=URI:https://www.solacc.edu/about-us/calendar/9017133/medical-assi
 stant-ssl-crowley-campus
DTSTART:20260427T140000Z
DTEND:20260427T160000Z
END:VEVENT
END:VCALENDAR
