BEGIN:VCALENDAR
VERSION:2.0
PRODID:SchoolNow
CALSCALE:GREGORIAN
BEGIN:VEVENT
UID:8876dd82-3e79-11f1-b9d1-0a58a9feac02
DTSTAMP:20260424T200902Z
SUMMARY:Industrial/Ag Mechanics Technology Campus Visit
DESCRIPTION:This event is for Industrial/Ag Mechanic students to join us in
  person at the Abbeville Campus for important program information for Fall
  2026. Student Success Live is a group advising and enrollment meeting. St
 udents will receive important paperwork and check their financial aid stat
 us for the Fall 2026 semester.
LOCATION:1115 Clover St. Abbeville\, LA 70510
URL;VALUE=URI:https://www.solacc.edu/about-us/calendar/9011694/industrial-a
 gricultural-mechanics-technology-campus-visit
DTSTART:20260429T150000Z
DTEND:20260429T170000Z
END:VEVENT
END:VCALENDAR
