BEGIN:VCALENDAR
VERSION:2.0
PRODID:SchoolNow
CALSCALE:GREGORIAN
BEGIN:VEVENT
UID:6915cb0e-39d5-11f1-bea0-0a58a9feac02
DTSTAMP:20260417T185130Z
SUMMARY:April Transfer Info Session LSU Alexandria
LOCATION:Ardoin Building\, Near Room 404
URL;VALUE=URI:https://www.solacc.edu/about-us/calendar/8998869/april-transf
 er-info-session-lsu-alexandria
DTSTART:20260422T160000Z
DTEND:20260422T180000Z
END:VEVENT
END:VCALENDAR
