BEGIN:VCALENDAR
VERSION:2.0
PRODID:SchoolNow
CALSCALE:GREGORIAN
BEGIN:VEVENT
UID:cb7c5d0e-39d4-11f1-b9a9-0afff8a3431d
DTSTAMP:20260416T204708Z
SUMMARY:April Transfer Info Session - UL Lafayette
LOCATION:Ardoin Building\, Near Room 404
URL;VALUE=URI:https://www.solacc.edu/about-us/calendar/8998868/april-transf
 er-info-session
DTSTART:20260420T140000Z
DTEND:20260420T170000Z
END:VEVENT
END:VCALENDAR
