BEGIN:VCALENDAR
VERSION:2.0
PRODID:SchoolNow
CALSCALE:GREGORIAN
BEGIN:VEVENT
UID:a4aad6f8-2c71-11f1-98fc-0a58a9feac02
DTSTAMP:20260331T215853Z
SUMMARY:Bayou Bash (Seafood Boil Event)
LOCATION:All Campuses (Please check the schedule in the description)
URL;VALUE=URI:https://www.solacc.edu/about-us/calendar/8957996/bayou-bash-e
 vent
DTSTART:20260407T160000Z
DTEND:20260420T160000Z
END:VEVENT
END:VCALENDAR
