BEGIN:VCALENDAR
VERSION:2.0
PRODID:SchoolNow
CALSCALE:GREGORIAN
BEGIN:VEVENT
UID:3e6d4eda-2c61-11f1-8146-0a58a9feac02
DTSTAMP:20260330T205535Z
SUMMARY:Student Registration & Orientation Event (Student Success Live)
DESCRIPTION:Student Success Live is a group advising and enrollment event w
 ith on-the-spot course registration to help you get ready for Fall 2026. J
 oin us in person on the Lafayette Campus.
LOCATION:Register Online to Reserve Your Space
URL;VALUE=URI:https://www.solacc.edu/about-us/calendar/8957917/studentsucce
 sslive0506
DTSTART:20260506T183000Z
DTEND:20260506T220000Z
END:VEVENT
END:VCALENDAR
