BEGIN:VCALENDAR
VERSION:2.0
PRODID:SchoolNow
CALSCALE:GREGORIAN
BEGIN:VEVENT
UID:60dac85a-2c5f-11f1-9f73-0a58a9feac02
DTSTAMP:20260330T205428Z
SUMMARY:Student Registration & Orientation Event (Student Success Live)
DESCRIPTION:Student Success Live is a group advising and enrollment event w
 ith on-the-spot course registration to help you get ready for Fall 2026. J
 oin us in person on the Lafayette Campus.
LOCATION:Register Online to Reserve Your Space
URL;VALUE=URI:https://www.solacc.edu/about-us/calendar/8957892/studentsucce
 sslive0416
DTSTART:20260416T213000Z
DTEND:20260417T010000Z
END:VEVENT
END:VCALENDAR
