BEGIN:VCALENDAR
VERSION:2.0
PRODID:SchoolNow
CALSCALE:GREGORIAN
BEGIN:VEVENT
UID:213d2b08-2c5e-11f1-b54b-0ebf0ec61a4f
DTSTAMP:20260330T205322Z
SUMMARY:Student Registration & Orientation Event (Student Success Live)
DESCRIPTION:Student Success Live is a group advising and enrollment event w
 ith on-the-spot course registration to help you get ready for Fall 2026. J
 oin us in person on the Lafayette Campus.
LOCATION:Register Online to Reserve Your Space
URL;VALUE=URI:https://www.solacc.edu/about-us/calendar/8957890/studentsucce
 sslive0331
DTSTART:20260331T183000Z
DTEND:20260331T220000Z
END:VEVENT
END:VCALENDAR
