BEGIN:VCALENDAR
VERSION:2.0
PRODID:SchoolNow
CALSCALE:GREGORIAN
BEGIN:VEVENT
UID:9075de28-292c-11f1-b4ad-0affe91fbffd
DTSTAMP:20260330T184134Z
SUMMARY:Lunch and Learn - Wellness Collective New Iberia
DESCRIPTION:Join The Wellness Collective for a Lunch and Learn event in par
 tnership with Longbranch Recovery.
LOCATION:908 Ember Drive\, New Iberia
URL;VALUE=URI:https://www.solacc.edu/about-us/calendar/8947262/lunch-and-le
 arn-wellness-collective-new-iberia
DTSTART:20260408T163000Z
DTEND:20260408T170000Z
END:VEVENT
END:VCALENDAR
