BEGIN:VCALENDAR
VERSION:2.0
PRODID:SchoolNow
CALSCALE:GREGORIAN
BEGIN:VEVENT
UID:afe191ce-23a7-11f1-8074-02045f01db55
DTSTAMP:20260320T194212Z
SUMMARY:Community College Week: Campus Tour & Coffee Chat @ Abbeville
DESCRIPTION:Join our Crowley Campus staff for a tour of the campus and avai
 lable programs. Prospective students and community members will have a cha
 nce to meet the campus team and ask questions about SoLAcc Crowley.
LOCATION:1115 Clover St.\, Abbeville\, LA 70510
URL;VALUE=URI:https://www.solacc.edu/about-us/calendar/8929991/community-co
 llege-week-campus-tour-coffee-chat-abbeville
DTSTART:20260325T140000Z
DTEND:20260325T160000Z
END:VEVENT
END:VCALENDAR
