BEGIN:VCALENDAR
VERSION:2.0
PRODID:SchoolNow
CALSCALE:GREGORIAN
BEGIN:VEVENT
UID:6ec51c2e-23a7-11f1-b2f9-0a58a9feac02
DTSTAMP:20260319T152225Z
SUMMARY:Community College Week: Campus Tour & Coffee Chat @ Crowley
DESCRIPTION:Join our Crowley Campus staff for a tour of the campus and avai
 lable programs. Prospective students and community members will have a cha
 nce to meet the campus team and ask questions about SoLAcc Crowley.
LOCATION:1933 W. Hutchinson Ave.  Crowley\, LA 70526
URL;VALUE=URI:https://www.solacc.edu/about-us/calendar/8929990/community-co
 llege-week-campus-tour-coffee-chat-crowley
DTSTART:20260327T140000Z
DTEND:20260327T160000Z
END:VEVENT
END:VCALENDAR
