BEGIN:VCALENDAR
VERSION:2.0
PRODID:SchoolNow
CALSCALE:GREGORIAN
BEGIN:VEVENT
UID:59dc25e8-217f-11f1-aa1b-0254cadce3eb
DTSTAMP:20260316T213027Z
SUMMARY:Community College Week: Employer Exploration - Navigating the Work 
 World for Welders
LOCATION:Ville Platte Campus\, 1124 Vocational Dr. Ville Platte\, LA 70586
URL;VALUE=URI:https://www.solacc.edu/about-us/calendar/8923609/weldingwork
DTSTART:20260324T140000Z
DTEND:20260324T153000Z
END:VEVENT
END:VCALENDAR
