BEGIN:VCALENDAR
VERSION:2.0
PRODID:SchoolNow
CALSCALE:GREGORIAN
BEGIN:VEVENT
UID:3e07b15a-1dbc-11f1-9cbb-0e55910752fb
DTSTAMP:20260312T023615Z
SUMMARY:Community College Week: Snowballs & Success (St. Martinville)
LOCATION:St. Martinville Campus
URL;VALUE=URI:https://www.solacc.edu/about-us/calendar/8911732/community-co
 llege-week-snowballs-success-st-martinville
DTSTART;VALUE=DATE:20260311
DTEND;VALUE=DATE:20260312
END:VEVENT
END:VCALENDAR
