BEGIN:VCALENDAR
VERSION:2.0
PRODID:SchoolNow
CALSCALE:GREGORIAN
BEGIN:VEVENT
UID:e436f0e4-141c-11f1-917b-0e7efa62387f
DTSTAMP:20260316T215802Z
SUMMARY:Community College Week: Preview Day
DESCRIPTION:Join the Office of Admissions and Recruiting to learn more abou
 t SoLAcc's Academic Programs\, Workforce Programs\, Student Organizations
 \, and Student Success Departments (Financial Aid\, Admissions\, Scholarsh
 ips\, Career Services).
LOCATION:Lafayette Campus\, 1101 Bertrand Drive\, Lafayette\, LA
URL;VALUE=URI:https://www.solacc.edu/about-us/calendar/8876529/26previewday
DTSTART:20260323T133000Z
DTEND:20260323T180000Z
END:VEVENT
END:VCALENDAR
