BEGIN:VCALENDAR
VERSION:2.0
PRODID:SchoolNow
CALSCALE:GREGORIAN
BEGIN:VEVENT
UID:9b1dd2ca-0890-11f1-9463-0a58a9feac02
DTSTAMP:20260316T215707Z
SUMMARY:Community College Week: Student Showcase
DESCRIPTION:This annual event celebrates the knowledge\, skills\, and talen
 ts of SoLAcc students where employees\, businesses\, and prospective stud
 ents can see what makes the College so unique - you! Any student who signs
  up to showcase their skills will be eligible to win $250 scholarship.
LOCATION:Lafayette Campus - Devalcourt Auditorium (320 Devalcourt St.)
URL;VALUE=URI:https://www.solacc.edu/about-us/calendar/8854662/community-co
 llege-week-student-showcase
DTSTART:20260323T140000Z
DTEND:20260323T170000Z
END:VEVENT
END:VCALENDAR
