BEGIN:VCALENDAR
VERSION:2.0
PRODID:SchoolNow
CALSCALE:GREGORIAN
BEGIN:VEVENT
UID:b21f6e52-0386-11f1-bbe1-0a58a9feac02
DTSTAMP:20260206T180753Z
SUMMARY:Explore SoLAcc Workforce Programs: Virtual Information Session
DESCRIPTION:SoLAcc has a mission to provide training that focuses on the ne
 eds of businesses and industry while preparing you for your next steps. Jo
 in our Economic & Workforce Development team for an overview of the 15 car
 eer-training courses offered at SoLAcc.
LOCATION:Online Meeting
URL;VALUE=URI:https://www.solacc.edu/about-us/calendar/8850719/explore-sola
 cc-workforce-programs-virtual-information-session
DTSTART:20260225T160000Z
DTEND:20260225T163000Z
END:VEVENT
END:VCALENDAR
