BEGIN:VCALENDAR
VERSION:2.0
PRODID:SchoolNow
CALSCALE:GREGORIAN
BEGIN:VEVENT
UID:bf605f60-02fd-11f1-a32c-0265e1c2a3bd
DTSTAMP:20260206T030224Z
SUMMARY:CTE Program Tours: Drafting & Design\, Digital Media\, and Industri
 al Electronics
DESCRIPTION:Get a behind-the-scenes look at career paths that fuel your fut
 ure.
URL;VALUE=URI:https://www.solacc.edu/about-us/calendar/8850232/career-techn
 ical-cte-program-tours-automotive-electrician-hvac-clone
DTSTART:20260224T190000Z
DTEND:20260224T213000Z
END:VEVENT
END:VCALENDAR
