BEGIN:VCALENDAR
VERSION:2.0
PRODID:SchoolNow
CALSCALE:GREGORIAN
BEGIN:VEVENT
UID:7cbde1fa-02fd-11f1-8923-0a58a9feac02
DTSTAMP:20260206T030157Z
SUMMARY:CTE Program Tours: Practical Nursing & Medical Laboratory Science
DESCRIPTION:Get a behind-the-scenes look at career paths that fuel your fut
 ure.
URL;VALUE=URI:https://www.solacc.edu/about-us/calendar/8850231/cte-program-
 tours-practical-nursing-medical-laboratory-science
DTSTART:20260218T190000Z
DTEND:20260218T213000Z
END:VEVENT
END:VCALENDAR
