BEGIN:VCALENDAR
VERSION:2.0
PRODID:SchoolNow
CALSCALE:GREGORIAN
BEGIN:VEVENT
UID:8cb04e78-02e8-11f1-809b-0265e1c2a3bd
DTSTAMP:20260206T030139Z
SUMMARY:CTE Program Tours: Welding\, IT\, Culinary
DESCRIPTION:Get a behind-the-scenes look at career paths that fuel your fut
 ure.
URL;VALUE=URI:https://www.solacc.edu/about-us/calendar/8850206/cte-program-
 tours-welding-it-culinary
DTSTART:20260212T190000Z
DTEND:20260212T213000Z
END:VEVENT
END:VCALENDAR
