BEGIN:VCALENDAR
VERSION:2.0
PRODID:SchoolNow
CALSCALE:GREGORIAN
BEGIN:VEVENT
UID:19d2e0b4-02e8-11f1-8946-0a58a9feac02
DTSTAMP:20260206T030116Z
SUMMARY:CTE Program Tours: Automotive\, Electrician\, HVAC
DESCRIPTION:Get a behind-the-scenes look at career paths that fuel your fut
 ure.
URL;VALUE=URI:https://www.solacc.edu/about-us/calendar/8850205/career-techn
 ical-cte-program-tours-automotive-electrician-hvac
DTSTART:20260210T190000Z
DTEND:20260210T213000Z
END:VEVENT
END:VCALENDAR
