BEGIN:VCALENDAR
VERSION:2.0
PRODID:SchoolNow
CALSCALE:GREGORIAN
BEGIN:VEVENT
UID:2df4a742-fbc4-11f0-9190-0a58a9feac02
DTSTAMP:20260211T212244Z
SUMMARY:Carnival de SoLAcc Mardi Gras Get-Together (Lafayette Campus)
LOCATION:Devalcourt Auditorium
URL;VALUE=URI:https://www.solacc.edu/about-us/calendar/8845269/carnival-de-
 solacc-mardi-gras
DTSTART:20260212T173000Z
DTEND:20260212T193000Z
END:VEVENT
END:VCALENDAR
