BEGIN:VCALENDAR
VERSION:2.0
PRODID:SchoolNow
CALSCALE:GREGORIAN
BEGIN:VEVENT
UID:7af194da-f7df-11f0-98eb-023580c3c903
DTSTAMP:20260316T215906Z
SUMMARY:Opelousas Career & Transfer Fair
DESCRIPTION:Find a position in Welding\, Diesel\, Industrial Elec\, Electri
 cian\, Nursing & Allied Health\, Non-Destructive Testing at the Opelousas 
 Career & Transfer Fair!
LOCATION:Opelousas Campus - 332 East South St. Opelousas\, LA 70570
URL;VALUE=URI:https://www.solacc.edu/about-us/calendar/8839591/opelousas-ca
 reer-transfer-fair
DTSTART:20260324T143000Z
DTEND:20260324T170000Z
END:VEVENT
END:VCALENDAR
