BEGIN:VCALENDAR
VERSION:2.0
PRODID:SchoolNow
CALSCALE:GREGORIAN
BEGIN:VEVENT
UID:6b602774-f731-11f0-87d8-0a58a9feac02
DTSTAMP:20260122T012647Z
SUMMARY:SoLAcc History Club Meeting
LOCATION:Lafayette Campus\, Devalcourt Auditorium
URL;VALUE=URI:https://www.solacc.edu/about-us/calendar/8839140/solacc-histo
 ry-club-meeting
DTSTART:20260129T200000Z
DTEND:20260129T210000Z
END:VEVENT
END:VCALENDAR
