BEGIN:VCALENDAR
VERSION:2.0
PRODID:SchoolNow
CALSCALE:GREGORIAN
BEGIN:VEVENT
UID:d8d5e142-f72f-11f0-b0e6-0a58a9feac02
DTSTAMP:20260202T162242Z
SUMMARY:Internship/Part-Time Resource Fair - RESCHEDULED
LOCATION:Lafayette Campus\, Devalcourt Auditorium - 320 Devalcourt St.\, La
 fayette
URL;VALUE=URI:https://www.solacc.edu/about-us/calendar/8839132/internship-p
 art-time-resource-fair
DTSTART:20260202T150000Z
DTEND:20260202T180000Z
END:VEVENT
END:VCALENDAR
