BEGIN:VCALENDAR
VERSION:2.0
PRODID:SchoolNow
CALSCALE:GREGORIAN
BEGIN:VEVENT
UID:f2d463b0-f226-11f0-a2d8-0a58a9feac02
DTSTAMP:20260115T152914Z
SUMMARY:Student Success Live - Lafayette Campus
LOCATION:Lafayette Campus\, Health & Sciences Auditorium (Room 100)
URL;VALUE=URI:https://www.solacc.edu/about-us/calendar/8836663/student-succ
 ess-live-lafayette-campus-clone
DTSTART:20260128T200000Z
DTEND:20260128T230000Z
END:VEVENT
END:VCALENDAR
