BEGIN:VCALENDAR
VERSION:2.0
PRODID:SchoolNow
CALSCALE:GREGORIAN
BEGIN:VEVENT
UID:e64be0f6-f21b-11f0-9278-024f96481823
DTSTAMP:20260115T152845Z
SUMMARY:Student Success Live - Lafayette Campus
LOCATION:Lafayette Campus\, Health & Sciences Auditorium (Room 100)
URL;VALUE=URI:https://www.solacc.edu/about-us/calendar/8836649/student-succ
 ess-live-lafayette-campus
DTSTART:20260121T200000Z
DTEND:20260121T230000Z
END:VEVENT
END:VCALENDAR
