BEGIN:VCALENDAR
VERSION:2.0
PRODID:SchoolNow
CALSCALE:GREGORIAN
BEGIN:VEVENT
UID:123b1c4c-ecca-11f0-8a03-029ef081912b
DTSTAMP:20260112T171100Z
SUMMARY:Welcome Week Spring 2026
LOCATION:All Campuses (Please check the schedule in the description)
URL;VALUE=URI:https://www.solacc.edu/about-us/calendar/8832887/welcome-week
 -spring-2026
DTSTART:20260113T153000Z
DTEND:20260123T160000Z
END:VEVENT
END:VCALENDAR
