BEGIN:VCALENDAR
VERSION:2.0
PRODID:SchoolNow
CALSCALE:GREGORIAN
BEGIN:VEVENT
UID:4b8db8a0-d9c5-11f0-8ea4-0a58a9feac02
DTSTAMP:20251215T144944Z
SUMMARY:The Owl Connection - Student Convocation
LOCATION:SoLAcc Lafayette - Devalcourt Building (320 Devalcourt Dr.\, Lafay
 ette)
URL;VALUE=URI:https://www.solacc.edu/about-us/calendar/8823861/the-owl-conn
 ection-student-convocation
DTSTART:20260107T143000Z
DTEND:20260107T190000Z
END:VEVENT
END:VCALENDAR
