BEGIN:VCALENDAR
VERSION:2.0
PRODID:SchoolNow
CALSCALE:GREGORIAN
BEGIN:VEVENT
UID:095547e8-c64f-11f0-bf19-0a58a9feac02
DTSTAMP:20251120T202520Z
SUMMARY:Spring 26 Registration Event - Continuing Students
LOCATION:WebEx
URL;VALUE=URI:https://www.solacc.edu/about-us/calendar/8806337/spring-26-re
 gistration-event-continuing-students-clone-clone
DTSTART:20251216T230000Z
DTEND:20251217T010000Z
END:VEVENT
END:VCALENDAR
