BEGIN:VCALENDAR
VERSION:2.0
PRODID:SchoolNow
CALSCALE:GREGORIAN
BEGIN:VEVENT
UID:ec9ab1d8-c64e-11f0-a732-0e924e89945b
DTSTAMP:20251120T202432Z
SUMMARY:Spring 26 Registration Event - Continuing Students
LOCATION:WebEx
URL;VALUE=URI:https://www.solacc.edu/about-us/calendar/8806336/spring-26-re
 gistration-event-continuing-students-clone
DTSTART:20251216T150000Z
DTEND:20251216T170000Z
END:VEVENT
END:VCALENDAR
