BEGIN:VCALENDAR
VERSION:2.0
PRODID:SchoolNow
CALSCALE:GREGORIAN
BEGIN:VEVENT
UID:caa17666-c64e-11f0-bb72-0a58a9feac02
DTSTAMP:20251120T202335Z
SUMMARY:Spring 26 Registration Event - Continuing Students
LOCATION:Lafayette Campus\, H&S Room 107
URL;VALUE=URI:https://www.solacc.edu/about-us/calendar/8806335/spring-26-re
 gistration-event-continuing-students
DTSTART:20251215T160000Z
DTEND:20251215T180000Z
END:VEVENT
END:VCALENDAR
