BEGIN:VCALENDAR
VERSION:2.0
PRODID:SchoolNow
CALSCALE:GREGORIAN
BEGIN:VEVENT
UID:269e0084-c626-11f0-8c62-0affe72d166b
DTSTAMP:20251120T153546Z
SUMMARY:Revising and Editing Your Essays
LOCATION:WebEx
URL;VALUE=URI:https://www.solacc.edu/about-us/calendar/8805368/revising-and
 -editing-your-essays
DTSTART:20251203T190000Z
DTEND:20251203T200000Z
END:VEVENT
END:VCALENDAR
