BEGIN:VCALENDAR
VERSION:2.0
PRODID:SchoolNow
CALSCALE:GREGORIAN
BEGIN:VEVENT
UID:01a6ccca-c626-11f0-9c42-02ea71babd91
DTSTAMP:20251120T153527Z
SUMMARY:Synthesizing Sources for Research Essays
LOCATION:WebEx
URL;VALUE=URI:https://www.solacc.edu/about-us/calendar/8805367/synthesizing
 -sources-for-research-essays
DTSTART:20251124T210000Z
DTEND:20251124T220000Z
END:VEVENT
END:VCALENDAR
