BEGIN:VCALENDAR
VERSION:2.0
PRODID:SchoolNow
CALSCALE:GREGORIAN
BEGIN:VEVENT
UID:9479ac8e-c4a5-11f0-a00f-0e51efc2a261
DTSTAMP:20251118T173948Z
SUMMARY:The Owl Fuel Tour - Fall 2025
LOCATION:Multiple Campuses (See Schedule)
URL;VALUE=URI:https://www.solacc.edu/about-us/calendar/8801834/the-owl-fuel
 -tour-fall-2025
DTSTART:20251201T173000Z
DTEND:20251204T190000Z
END:VEVENT
END:VCALENDAR
