BEGIN:VCALENDAR
VERSION:2.0
PRODID:SchoolNow
CALSCALE:GREGORIAN
BEGIN:VEVENT
UID:11e1de44-bf3d-11f0-b1c0-02231b95ae21
DTSTAMP:20251111T202933Z
SUMMARY:Grand Canyon University Recruiter Visit
LOCATION:Lafayette Campus - Ardoin Building Room 105
URL;VALUE=URI:https://www.solacc.edu/about-us/calendar/8789633/grand-canyon
 -recruiter-visit-clone-clone
DTSTART:20251119T150000Z
DTEND:20251119T180000Z
END:VEVENT
END:VCALENDAR
