BEGIN:VCALENDAR
VERSION:2.0
PRODID:SchoolNow
CALSCALE:GREGORIAN
BEGIN:VEVENT
UID:3f390bce-b6a0-11f0-92ef-0a58a9feac02
DTSTAMP:20251031T212622Z
SUMMARY:The Amazing Wellness Race
LOCATION:Lafayette Campus (320 Devalcourt St.\, Lafayette) - Devalcourt Aud
 itorium
URL;VALUE=URI:https://www.solacc.edu/about-us/calendar/8765868/the-amazing-
 wellness-race
DTSTART:20251106T160000Z
DTEND:20251106T190000Z
END:VEVENT
END:VCALENDAR
