BEGIN:VCALENDAR
VERSION:2.0
PRODID:SchoolNow
CALSCALE:GREGORIAN
BEGIN:VEVENT
UID:2676a368-a3ee-11f0-8050-0affe3b30109
DTSTAMP:20251008T171804Z
SUMMARY:Fall 2025 Scholarship Reception
LOCATION:Lafayette Campus\, Devalcourt Auditorium - 320 Devalcourt Street\,
  Lafayette\, LA
URL;VALUE=URI:https://www.solacc.edu/about-us/calendar/8704689/fall-2025-sc
 holarship-reception
DTSTART:20251014T200000Z
DTEND:20251014T213000Z
ATTACH;FILENAME=Fall 25 Scholarship Reception news.png;FMTTYPE=image/png:ht
 tps://campussuite-storage.s3.amazonaws.com/prod/1558538/0d9d10fa-02cc-11e8
 -8e76-12c998a55b1c/3018639/22c6529a-a3f3-11f0-9023-0a58a9feac02/file/Fall 
 25 Scholarship Reception news.png
END:VEVENT
END:VCALENDAR
