BEGIN:VCALENDAR
VERSION:2.0
PRODID:SchoolNow
CALSCALE:GREGORIAN
BEGIN:VEVENT
UID:165e59a2-9fda-11f0-9bb6-0a58a9feac02
DTSTAMP:20251002T231056Z
SUMMARY:Banned Books Week: The Diary of Anne Frank
LOCATION:SoLAcc Library - 320 Devalcourt St. - Lafayette Campus
URL;VALUE=URI:https://www.solacc.edu/about-us/calendar/8689067/banned-books
 -week-the-diary-of-anne-frank
DTSTART:20251008T150000Z
DTEND:20251008T160000Z
END:VEVENT
END:VCALENDAR
