BEGIN:VCALENDAR
VERSION:2.0
PRODID:SchoolNow
CALSCALE:GREGORIAN
BEGIN:VEVENT
UID:f53ef448-9fd9-11f0-a048-0a58a9feac02
DTSTAMP:20251002T215131Z
SUMMARY:History of Festivals Acadiens & Créoles and CODOFIlL
LOCATION:SoLAcc Library - 320 Devalcourt St.\, Lafayette Campus
URL;VALUE=URI:https://www.solacc.edu/about-us/calendar/8689066/history-of-f
 estivals-acadiens-cr-oles-and-codofill
DTSTART:20251006T160000Z
DTEND:20251006T170000Z
END:VEVENT
END:VCALENDAR
