BEGIN:VCALENDAR
VERSION:2.0
PRODID:SchoolNow
CALSCALE:GREGORIAN
BEGIN:VEVENT
UID:36e73f9a-9d3c-11f0-b3a5-0affe3b30109
DTSTAMP:20250929T140910Z
SUMMARY:Soleil's Fall Fest 2025
LOCATION:Lafayette Campus (320 Devalcourt St.\, Lafayette) - Parking Lot D
URL;VALUE=URI:https://www.solacc.edu/about-us/calendar/8676415/soleils-fall
 -fest-2025
DTSTART:20251029T213000Z
DTEND:20251029T233000Z
END:VEVENT
END:VCALENDAR
