BEGIN:VCALENDAR
VERSION:2.0
PRODID:SchoolNow
CALSCALE:GREGORIAN
BEGIN:VEVENT
UID:bdd8e396-9a71-11f0-9fff-0a58a9feac02
DTSTAMP:20250926T004255Z
SUMMARY:Grand Canyon University Recruiter Visit
LOCATION:Lafayette Campus - Ardoin Building Room 105
URL;VALUE=URI:https://www.solacc.edu/about-us/calendar/8665162/grand-canyon
 -recruiter-visit-clone
DTSTART:20251006T140000Z
DTEND:20251006T180000Z
END:VEVENT
END:VCALENDAR
