BEGIN:VCALENDAR
VERSION:2.0
PRODID:SchoolNow
CALSCALE:GREGORIAN
BEGIN:VEVENT
UID:a3422920-9a71-11f0-9caa-0e84c27ea6fb
DTSTAMP:20250926T004210Z
SUMMARY:UL Lafayette Recruiter Visit
LOCATION:Lafayette Campus - Ardoin Building Room 105
URL;VALUE=URI:https://www.solacc.edu/about-us/calendar/8665161/ul-recruiter
 -visit-clone-clone
DTSTART:20251022T140000Z
DTEND:20251022T170000Z
END:VEVENT
END:VCALENDAR
