BEGIN:VCALENDAR
VERSION:2.0
PRODID:SchoolNow
CALSCALE:GREGORIAN
BEGIN:VEVENT
UID:98dfebe8-9a71-11f0-bcc6-0a58a9feac02
DTSTAMP:20250926T004153Z
SUMMARY:UL Lafayette Recruiter Visit
LOCATION:Lafayette Campus - Ardoin Building Room 105
URL;VALUE=URI:https://www.solacc.edu/about-us/calendar/8665160/ul-recruiter
 -visit-clone
DTSTART:20251007T140000Z
DTEND:20251007T170000Z
END:VEVENT
END:VCALENDAR
