BEGIN:VCALENDAR
VERSION:2.0
PRODID:SchoolNow
CALSCALE:GREGORIAN
BEGIN:VEVENT
UID:8d52dc5c-9a14-11f0-8adf-0ea51842133d
DTSTAMP:20251217T181241Z
SUMMARY:Graduation Ceremony
LOCATION:CAJUNDOME arena
URL;VALUE=URI:https://www.solacc.edu/about-us/calendar/8662878/graduation-c
 eremony
DTSTART:20251218T160000Z
DTEND:20251218T170000Z
END:VEVENT
END:VCALENDAR
