BEGIN:VCALENDAR
VERSION:2.0
PRODID:SchoolNow
CALSCALE:GREGORIAN
BEGIN:VEVENT
UID:5030cff2-924c-11f0-b7c9-02783b3868e5
DTSTAMP:20250916T160617Z
SUMMARY:Constitution Day & Voter Registration Event
LOCATION:Ardoin 403 Lafayette Campus - Student Success Center
URL;VALUE=URI:https://www.solacc.edu/about-us/calendar/8624412/voter-educat
 ion-forum-clone
DTSTART:20250917T140000Z
DTEND:20250917T160000Z
END:VEVENT
END:VCALENDAR
